BEGIN:VCALENDAR
VERSION:2.0
PRODID:-//Rotary Club of Petaling Jaya - ECPv6.15.17.1//NONSGML v1.0//EN
CALSCALE:GREGORIAN
METHOD:PUBLISH
X-WR-CALNAME:Rotary Club of Petaling Jaya
X-ORIGINAL-URL:https://rotarypj.com
X-WR-CALDESC:Events for Rotary Club of Petaling Jaya
REFRESH-INTERVAL;VALUE=DURATION:PT1H
X-Robots-Tag:noindex
X-PUBLISHED-TTL:PT1H
BEGIN:VTIMEZONE
TZID:Asia/Kuala_Lumpur
BEGIN:STANDARD
TZOFFSETFROM:+0800
TZOFFSETTO:+0800
TZNAME:+08
DTSTART:20250101T000000
END:STANDARD
END:VTIMEZONE
BEGIN:VEVENT
DTSTART;TZID=Asia/Kuala_Lumpur:20260331T183000
DTEND;TZID=Asia/Kuala_Lumpur:20260331T210000
DTSTAMP:20260424T174112
CREATED:20260321T101327Z
LAST-MODIFIED:20260321T101637Z
UID:8422-1774981800-1774990800@rotarypj.com
SUMMARY:Joint Club Meeting: Rotary Club of Petaling Jaya & Rotary Club of Hulu Langat Eco
DESCRIPTION:Chairperson: President David Ong
URL:https://rotarypj.com/event/joint-club-meeting-rotary-club-of-petaling-jaya-rotary-club-of-hulu-langat-eco
LOCATION:Dorsett Grand Subang\, Jalan SS 12/1\, Ss 12\, Subang Jaya\, Selangor\, 47500\, Malaysia
END:VEVENT
BEGIN:VEVENT
DTSTART;TZID=Asia/Kuala_Lumpur:20260414T063000
DTEND;TZID=Asia/Kuala_Lumpur:20260414T063000
DTSTAMP:20260424T174112
CREATED:20260420T150041Z
LAST-MODIFIED:20260420T150041Z
UID:8439-1776148200-1776148200@rotarypj.com
SUMMARY:From Trash to Treasure
DESCRIPTION:Speaker: Yap Jin Zhong
URL:https://rotarypj.com/event/from-trash-to-treasure
LOCATION:Dorsett Grand Subang\, Jalan SS 12/1\, Ss 12\, Subang Jaya\, Selangor\, 47500\, Malaysia
END:VEVENT
BEGIN:VEVENT
DTSTART;TZID=Asia/Kuala_Lumpur:20260421T183000
DTEND;TZID=Asia/Kuala_Lumpur:20260421T210000
DTSTAMP:20260424T174112
CREATED:20260420T150227Z
LAST-MODIFIED:20260420T150228Z
UID:8441-1776796200-1776805200@rotarypj.com
SUMMARY:Yayasan: Doing Good in Malaysia
DESCRIPTION:Speaker: PDG Leslie Salehuddin
URL:https://rotarypj.com/event/yayasan-doing-good-in-malaysia
LOCATION:Dorsett Grand Subang\, Jalan SS 12/1\, Ss 12\, Subang Jaya\, Selangor\, 47500\, Malaysia
END:VEVENT
BEGIN:VEVENT
DTSTART;TZID=Asia/Kuala_Lumpur:20260519T183000
DTEND;TZID=Asia/Kuala_Lumpur:20260519T210000
DTSTAMP:20260424T174112
CREATED:20260420T145633Z
LAST-MODIFIED:20260420T145634Z
UID:8437-1779215400-1779224400@rotarypj.com
SUMMARY:4th Club Assembly
DESCRIPTION:Chairperson: President David Ong
URL:https://rotarypj.com/event/4th-club-assembly
LOCATION:Dorsett Grand Subang\, Jalan SS 12/1\, Ss 12\, Subang Jaya\, Selangor\, 47500\, Malaysia
END:VEVENT
END:VCALENDAR